BEGIN:VCALENDAR
VERSION:2.0
PRODID:icalendar-ruby
CALSCALE:GREGORIAN
METHOD:PUBLISH
BEGIN:VEVENT
DTSTAMP:20260420T181737Z
UID:53-983029@liveoakfamily.church
DTSTART:20260827T113000Z
DTEND:20260827T123000Z
CLASS:PUBLIC
CREATED:20260420T113136
DESCRIPTION:Men's Bible Study
LAST-MODIFIED:20260420T113136
LOCATION:Live Oak Church
SUMMARY:Men's Bible Study
URL;VALUE=URI:https://liveoakfamily.church/events/mens-bible-study/2026-08-
 27
ATTACH;FILENAME=MENS BIBLE STUDY.png;FMTTYPE=image/png:https://dq5pwpg1q8ru
 0.cloudfront.net/2024/01/15/17/46/40/24a891ee-20c9-43f9-a44c-ecc896b1e67e/
 MENS%20BIBLE%20STUDY.png
END:VEVENT
END:VCALENDAR
